BEGIN:VCALENDAR
VERSION:2.0
PRODID:-//Pity of War - ECPv6.8.3//NONSGML v1.0//EN
CALSCALE:GREGORIAN
METHOD:PUBLISH
X-ORIGINAL-URL:https://www.pityofwar.org
X-WR-CALDESC:Events for Pity of War
REFRESH-INTERVAL;VALUE=DURATION:PT1H
X-Robots-Tag:noindex
X-PUBLISHED-TTL:PT1H
BEGIN:VTIMEZONE
TZID:Europe/London
BEGIN:DAYLIGHT
TZOFFSETFROM:+0000
TZOFFSETTO:+0100
TZNAME:BST
DTSTART:20200329T010000
END:DAYLIGHT
BEGIN:STANDARD
TZOFFSETFROM:+0100
TZOFFSETTO:+0000
TZNAME:GMT
DTSTART:20201025T010000
END:STANDARD
END:VTIMEZONE
BEGIN:VEVENT
DTSTART;VALUE=DATE:20200806
DTEND;VALUE=DATE:20200807
DTSTAMP:20260425T212506
CREATED:20200729T212924Z
LAST-MODIFIED:20200730T162926Z
UID:189-1596672000-1596758399@www.pityofwar.org
SUMMARY:Hiroshima Day
DESCRIPTION:The anniversary of the dropping of the first atom bomb in 1945. This year marks the 75th anniversary.
URL:https://www.pityofwar.org/event/hiroshima-day
END:VEVENT
END:VCALENDAR